BEGIN:VCALENDAR
VERSION:2.0
PRODID:-//Squarespace Inc/Squarespace 6//v6//EN
BEGIN:VEVENT
UID:5e21369c9713f543997dd611@squarespace.com
DTSTAMP:20200117T042351Z
DTSTART:20200704T220000Z
DTEND:20200705T110000Z
SUMMARY:Term two 2020 ends
END:VEVENT
END:VCALENDAR
