BEGIN:VCALENDAR
VERSION:2.0
PRODID:-//Squarespace Inc/Squarespace 6//v6//EN
BEGIN:VEVENT
UID:5e2140a34c57ec0e601301a9@squarespace.com
DTSTAMP:20200117T050647Z
DTSTART:20200720T063000Z
DTEND:20200720T113000Z
SUMMARY:Term three begins!
END:VEVENT
END:VCALENDAR
