BEGIN:VCALENDAR
VERSION:2.0
PRODID:-//Squarespace Inc/Squarespace 6//v6//EN
BEGIN:VEVENT
UID:5e21349a599a244d6bb846a8@squarespace.com
DTSTAMP:20200117T041532Z
DTSTART:20200219T130000Z
DTEND:20200220T130000Z
SUMMARY:Term one fees now due
END:VEVENT
END:VCALENDAR
