BEGIN:VCALENDAR
VERSION:2.0
PRODID:-//Squarespace Inc/Squarespace 6//v6//EN
BEGIN:VEVENT
UID:5e21323d12540e1f1c762ff3@squarespace.com
DTSTAMP:20200117T040558Z
DTSTART:20200203T053000Z
DTEND:20200203T103000Z
SUMMARY:Term one 2020 begins! 
END:VEVENT
END:VCALENDAR
