BEGIN:VCALENDAR
VERSION:2.0
PRODID:-//Squarespace Inc/Squarespace 6//v6//EN
BEGIN:VEVENT
UID:5e214500bb909c4a01b99dfd@squarespace.com
DTSTAMP:20200117T052531Z
DTSTART:20201204T213000Z
DTEND:20201205T103000Z
SUMMARY:Term four 2020 ends!
END:VEVENT
END:VCALENDAR
