BEGIN:VCALENDAR
VERSION:2.0
PRODID:-//Squarespace Inc/Squarespace 6//v6//EN
BEGIN:VEVENT
UID:5e2144d6bb909c4a01b99943@squarespace.com
DTSTAMP:20200117T052408Z
DTSTART:20201012T053000Z
DTEND:20201012T103000Z
SUMMARY:Term four 2020 begins!
END:VEVENT
END:VCALENDAR
