BEGIN:VCALENDAR
VERSION:2.0
PRODID:-//Squarespace Inc/Squarespace 6//v6//EN
BEGIN:VEVENT
UID:5e2133baea165940538624ca@squarespace.com
DTSTAMP:20200117T041350Z
DTSTART:20200410T060000Z
DTEND:20200412T120000Z
SUMMARY:EASTER PUBLIC HOLIDAYS - NO CLASSES!
END:VEVENT
END:VCALENDAR
