BEGIN:VCALENDAR
VERSION:2.0
PRODID:-//Squarespace Inc/Squarespace 6//v6//EN
BEGIN:VEVENT
UID:5e21335644b0d30f4c83cf58@squarespace.com
DTSTAMP:20200117T041007Z
DTSTART:20200311T053000Z
DTEND:20200311T103000Z
SUMMARY:PUBLIC HOLIDAY - NO CLASSES TODAY!
END:VEVENT
END:VCALENDAR
