BEGIN:VCALENDAR
VERSION:2.0
PRODID:-//Squarespace Inc/Squarespace 6//v6//EN
BEGIN:VEVENT
UID:5e2136f02ea93e14b2c0335e@squarespace.com
DTSTAMP:20200117T042606Z
DTSTART:20200427T053000Z
DTEND:20200427T113000Z
SUMMARY:PUBLIC HOLIDAY - NO CLASSES!
END:VEVENT
END:VCALENDAR
