BEGIN:VCALENDAR
VERSION:2.0
PRODID:-//Squarespace Inc/Squarespace 6//v6//EN
BEGIN:VEVENT
UID:5e21376c12182f60deb660d8@squarespace.com
DTSTAMP:20200117T042734Z
DTSTART:20200601T053000Z
DTEND:20200601T113000Z
SUMMARY:PUBLIC HOLIDAY - CLASSES STILL IN OPERATION!
END:VEVENT
END:VCALENDAR
