BEGIN:VCALENDAR
VERSION:2.0
PRODID:-//Squarespace Inc/Squarespace 6//v6//EN
BEGIN:VEVENT
UID:5e2137c412182f60deb6683b@squarespace.com
DTSTAMP:20200117T042914Z
DTSTART:20200608T053000Z
DTEND:20200608T113000Z
SUMMARY:PUBLIC HOLIDAY - CLASSES STILL IN OPERATION!
END:VEVENT
END:VCALENDAR
