BEGIN:VCALENDAR
VERSION:2.0
PRODID:-//Squarespace Inc/Squarespace 6//v6//EN
BEGIN:VEVENT
UID:5e213f0112182f60deb74a96@squarespace.com
DTSTAMP:20200117T050516Z
DTSTART:20200815T020000Z
DTEND:20200815T080000Z
SUMMARY:Performance Company Event 
END:VEVENT
END:VCALENDAR
