BEGIN:VCALENDAR
VERSION:2.0
PRODID:-//Squarespace Inc/Squarespace 6//v6//EN
BEGIN:VEVENT
UID:5e21389c12540e1f1c771e50@squarespace.com
DTSTAMP:20200117T043424Z
DTSTART:20200511T220000Z
DTEND:20200516T110000Z
SUMMARY:Performance Company Eisteddfod
END:VEVENT
END:VCALENDAR
