BEGIN:VCALENDAR
VERSION:2.0
PRODID:-//Squarespace Inc/Squarespace 6//v6//EN
BEGIN:VEVENT
UID:5e213b1ebfa4fd68f63b1dbe@squarespace.com
DTSTAMP:20200117T045407Z
DTSTART:20200626T220000Z
DTEND:20200628T110000Z
SUMMARY:Performance Company Eisteddfod 
END:VEVENT
END:VCALENDAR
