BEGIN:VCALENDAR
VERSION:2.0
PRODID:-//Squarespace Inc/Squarespace 6//v6//EN
BEGIN:VEVENT
UID:5d60abb49820bb000198405f@squarespace.com
DTSTAMP:20190824T031500Z
DTSTART:20191115T213000Z
DTEND:20191116T013000Z
SUMMARY:P2P Shop Open!
END:VEVENT
END:VCALENDAR
