BEGIN:VCALENDAR
VERSION:2.0
PRODID:-//Squarespace Inc/Squarespace 6//v6//EN
BEGIN:VEVENT
UID:5d60ab63be33f80001d02f96@squarespace.com
DTSTAMP:20190824T031412Z
DTSTART:20191101T213000Z
DTEND:20191102T013000Z
SUMMARY:P2P Shop Open!
END:VEVENT
END:VCALENDAR
