BEGIN:VCALENDAR
VERSION:2.0
PRODID:-//Squarespace Inc/Squarespace 6//v6//EN
BEGIN:VEVENT
UID:5e214268977670311f81a8bc@squarespace.com
DTSTAMP:20200117T051429Z
DTSTART:20200807T063000Z
DTEND:20200809T073000Z
SUMMARY:P2P Exams weekend
END:VEVENT
END:VCALENDAR
