BEGIN:VCALENDAR
VERSION:2.0
PRODID:-//Squarespace Inc/Squarespace 6//v6//EN
BEGIN:VEVENT
UID:5e2132b3a917cc6d14977902@squarespace.com
DTSTAMP:20200117T041319Z
DTSTART:20200411T220000Z
DTEND:20200412T120000Z
SUMMARY:Term one 2020 ends!
END:VEVENT
END:VCALENDAR
