BEGIN:VCALENDAR
VERSION:2.0
PRODID:-//Squarespace Inc/Squarespace 6//v6//EN
BEGIN:VEVENT
UID:5e2145a4ea1659405388b059@squarespace.com
DTSTAMP:20200117T052837Z
DTSTART:20201028T130000Z
DTEND:20201029T130000Z
SUMMARY:Costume Instalment Payment due now (2/2)
END:VEVENT
END:VCALENDAR
