BEGIN:VCALENDAR
VERSION:2.0
PRODID:-//Squarespace Inc/Squarespace 6//v6//EN
BEGIN:VEVENT
UID:5e219926ea165940539069ed@squarespace.com
DTSTAMP:20200117T112457Z
DTSTART:20201205T010000Z
DTEND:20201205T063000Z
SUMMARY:CONCERT! FIRST SHOW!
END:VEVENT
END:VCALENDAR
