BEGIN:VCALENDAR
VERSION:2.0
PRODID:-//Squarespace Inc/Squarespace 6//v6//EN
BEGIN:VEVENT
UID:5e2134fd7cc7f93faf0f3395@squarespace.com
DTSTAMP:20200117T041724Z
DTSTART:20200403T210000Z
DTEND:20200405T110000Z
SUMMARY:ATOD Scholarship Exams
END:VEVENT
END:VCALENDAR
