BEGIN:VCALENDAR
VERSION:2.0
PRODID:-//Squarespace Inc/Squarespace 6//v6//EN
BEGIN:VEVENT
UID:5e21461abfa4fd68f63c805e@squarespace.com
DTSTAMP:20200117T053029Z
DTSTART:20201107T053000Z
DTEND:20201108T103000Z
SUMMARY:Performance Company Eisteddfod
END:VEVENT
END:VCALENDAR
