BEGIN:VCALENDAR
VERSION:2.0
PRODID:-//Squarespace Inc/Squarespace 6//v6//EN
BEGIN:VEVENT
UID:5e219afdbb909c4a01c19bbe@squarespace.com
DTSTAMP:20200117T113447Z
DTSTART:20210115T220000Z
DTEND:20210122T200000Z
SUMMARY:2021 Summer Intensive!
END:VEVENT
END:VCALENDAR
