BEGIN:VCALENDAR
VERSION:2.0
PRODID:-//Squarespace Inc/Squarespace 6//v6//EN
BEGIN:VEVENT
UID:5cc19a7a0852298b325e6dc3@squarespace.com
DTSTAMP:20190425T113224Z
DTSTART:20200117T210000Z
DTEND:20200118T060000Z
SUMMARY:2020 Enrolment Day
END:VEVENT
END:VCALENDAR
