BEGIN:VCALENDAR
VERSION:2.0
PRODID:-//Squarespace Inc/Squarespace 6//v6//EN
BEGIN:VEVENT
UID:5cc1936c15fcc0de796c1574@squarespace.com
DTSTAMP:20190425T110221Z
DTSTART:20190927T210000Z
DTEND:20190928T100000Z
SUMMARY:End of Term 3
END:VEVENT
END:VCALENDAR
