BEGIN:VCALENDAR
VERSION:2.0
PRODID:-//Squarespace Inc/Squarespace 6//v6//EN
BEGIN:VEVENT
UID:5cc17d079b747a6fcbe77ac0@squarespace.com
DTSTAMP:20190425T103816Z
DTSTART:20190809T063000Z
DTEND:20190811T103000Z
SUMMARY:Exams Weekends
END:VEVENT
END:VCALENDAR
