BEGIN:VCALENDAR
VERSION:2.0
PRODID:-//Squarespace Inc/Squarespace 6//v6//EN
BEGIN:VEVENT
UID:5cc17c1f419202d5d375dec2@squarespace.com
DTSTAMP:20190425T092329Z
DTSTART:20190801T213000Z
DTEND:20190803T103000Z
SUMMARY:DanceLife Unite Eisteddfod
END:VEVENT
END:VCALENDAR
