BEGIN:VCALENDAR
VERSION:2.0
PRODID:-//Squarespace Inc/Squarespace 6//v6//EN
BEGIN:VEVENT
UID:5cc17ca59140b7bf8bc12ad4@squarespace.com
DTSTAMP:20190429T235409Z
DTSTART:20190809T213000Z
DTEND:20190810T103000Z
SUMMARY:Term Fees Due Now
END:VEVENT
END:VCALENDAR
