BEGIN:VCALENDAR
VERSION:2.0
PRODID:-//Squarespace Inc/Squarespace 6//v6//EN
BEGIN:VEVENT
UID:5cc1717fe5e5f03ae0dae785@squarespace.com
DTSTAMP:20190425T083824Z
DTSTART:20190705T210000Z
DTEND:20190707T110000Z
SUMMARY:Time to Shine Eisteddfod
END:VEVENT
END:VCALENDAR
