BEGIN:VCALENDAR
VERSION:2.0
PRODID:-//Squarespace Inc/Squarespace 6//v6//EN
BEGIN:VEVENT
UID:5cbef52207d4e300018069b8@squarespace.com
DTSTAMP:20190423T112357Z
DTSTART:20190610T053000Z
DTEND:20190610T063000Z
SUMMARY:NO CLASSES TODAY
END:VEVENT
END:VCALENDAR
