BEGIN:VCALENDAR
VERSION:2.0
PRODID:-//Squarespace Inc/Squarespace 6//v6//EN
BEGIN:VEVENT
UID:5cc16ef953450a3064490a08@squarespace.com
DTSTAMP:20190425T082902Z
DTSTART:20190525T223000Z
DTEND:20190601T113000Z
SUMMARY:ATOD Scholarships (Sydney)
END:VEVENT
END:VCALENDAR
