BEGIN:VCALENDAR
VERSION:2.0
PRODID:-//Squarespace Inc/Squarespace 6//v6//EN
BEGIN:VEVENT
UID:5cc78d9de6c4d100018a4a53@squarespace.com
DTSTAMP:20190429T235042Z
DTSTART:20190523T053000Z
DTEND:20190523T113000Z
SUMMARY:Change of Schedule to Thursday Classes
END:VEVENT
END:VCALENDAR
