BEGIN:VCALENDAR
VERSION:2.0
PRODID:-//Squarespace Inc/Squarespace 6//v6//EN
BEGIN:VEVENT
UID:5cbef5df38505c0001afc7e6@squarespace.com
DTSTAMP:20190429T235351Z
DTSTART:20190517T203000Z
DTEND:20190518T083000Z
SUMMARY:Term fees due now
END:VEVENT
END:VCALENDAR
