BEGIN:VCALENDAR
VERSION:2.0
PRODID:-//Squarespace Inc/Squarespace 6//v6//EN
BEGIN:VEVENT
UID:5cc170560d92973ba4ae65cb@squarespace.com
DTSTAMP:20190429T234832Z
DTSTART:20190516T210000Z
DTEND:20190518T090000Z
SUMMARY:NO CLASSES TODAY
END:VEVENT
END:VCALENDAR
