BEGIN:VCALENDAR
VERSION:2.0
PRODID:-//Squarespace Inc/Squarespace 6//v6//EN
BEGIN:VEVENT
UID:5cbef361419202e615d4de38@squarespace.com
DTSTAMP:20190429T235200Z
DTSTART:20190527T053000Z
DTEND:20190527T123000Z
SUMMARY:CLASSES STILL ON TODAY!
END:VEVENT
END:VCALENDAR
