BEGIN:VCALENDAR
VERSION:2.0
PRODID:-//Squarespace Inc/Squarespace 6//v6//EN
BEGIN:VEVENT
UID:5cc196e1e4966bdef431a3fb@squarespace.com
DTSTAMP:20190425T111859Z
DTSTART:20191123T020000Z
DTEND:20191123T070000Z
SUMMARY:Photo Shoot
END:VEVENT
END:VCALENDAR
