BEGIN:VCALENDAR
VERSION:2.0
PRODID:-//Squarespace Inc/Squarespace 6//v6//EN
BEGIN:VEVENT
UID:5cc195289140b7bf8bc1c3d0@squarespace.com
DTSTAMP:20190425T110941Z
DTSTART:20191101T200000Z
DTEND:20191102T090000Z
SUMMARY:Term Fees Due
END:VEVENT
END:VCALENDAR
