BEGIN:VCALENDAR
VERSION:2.0
PRODID:-//Squarespace Inc/Squarespace 6//v6//EN
BEGIN:VEVENT
UID:5cc1949f9140b7bf8bc1c063@squarespace.com
DTSTAMP:20190425T110808Z
DTSTART:20191018T200000Z
DTEND:20191019T090000Z
SUMMARY:Concert Costume Instalment Due
END:VEVENT
END:VCALENDAR
